BEGIN:VCALENDAR
VERSION:2.0
PRODID:-//mackoy consulting//FF-Agent//DE
NAME:FF-Agent Kalender
DESCRIPTION:FF-Agent Kalender
BEGIN:VEVENT
UID:bd3f4e70-b2c2-40c9-bf7e-b5aa272870c3
DTSTAMP:20260425T110814Z
SUMMARY;LANGUAGE=de-de:Ü: Jugend: Gerätekunde und Knoten (Jugend) - Feuerwe
 hr Denklingen
DTSTART:20260226T180000Z
DTEND:20260226T200000Z
DESCRIPTION:Übungsleitung: RH\, BS
PRIORITY:5
END:VEVENT
BEGIN:VEVENT
UID:cfb06491-1ede-410d-93b7-ccddb01158cc
DTSTAMP:20260425T110814Z
SUMMARY;LANGUAGE=de-de:Ü: Atemschutz: Atemschutz (Atemschutz) - Feuerwehr D
 enklingen
DTSTART:20260302T183000Z
DTEND:20260302T203000Z
DESCRIPTION:Übungsleitung: MS\, CG
PRIORITY:5
END:VEVENT
BEGIN:VEVENT
UID:25d7ae1b-f9f1-4211-a265-9fe20404249e
DTSTAMP:20260425T110814Z
SUMMARY;LANGUAGE=de-de:Ü: Verein: Vorstandschaftssitzung - Feuerwehr Denkli
 ngen
DTSTART:20260303T183000Z
DTEND:20260303T203000Z
PRIORITY:5
END:VEVENT
BEGIN:VEVENT
UID:e7bc6e9f-f58c-4c1f-bfa5-ba1bea8e75b5
DTSTAMP:20260425T110814Z
SUMMARY;LANGUAGE=de-de:Ü: Aktiv: Stationsübung (Aktiv) - Feuerwehr Denkling
 en
DTSTART:20260309T183000Z
DTEND:20260309T203000Z
DESCRIPTION:Übungsleitung: Ssi\, JF\, MK
PRIORITY:5
END:VEVENT
BEGIN:VEVENT
UID:83ec42b0-7bad-4a41-b04a-75f4144f9e34
DTSTAMP:20260425T110814Z
SUMMARY;LANGUAGE=de-de:Ü: Verein: JHV Dienhausen (Verein) - Feuerwehr Denkl
 ingen
DTSTART:20260309T190000Z
DTEND:20260309T210000Z
DESCRIPTION:Übungsleitung:
PRIORITY:5
END:VEVENT
BEGIN:VEVENT
UID:c0463c23-4d09-4ff8-ab88-f88cf016cf2a
DTSTAMP:20260425T110814Z
SUMMARY;LANGUAGE=de-de:Ü: Jugend: Stationsübung (Jugend) - Feuerwehr Denkli
 ngen
DTSTART:20260312T180000Z
DTEND:20260312T200000Z
DESCRIPTION:Übungsleitung: KB\, CG\, JW
PRIORITY:5
END:VEVENT
BEGIN:VEVENT
UID:bc63eb31-32e6-4d45-9764-f4d9772059dc
DTSTAMP:20260425T110814Z
SUMMARY;LANGUAGE=de-de:Ü: AbStuSi: Absturzsicherung (AbStuSi) - Feuerwehr D
 enklingen
DTSTART:20260316T183000Z
DTEND:20260316T203000Z
DESCRIPTION:Übungsleitung: MK
PRIORITY:5
END:VEVENT
BEGIN:VEVENT
UID:af3b56c3-8fee-455f-aaf6-904106bee5c9
DTSTAMP:20260425T110814Z
SUMMARY;LANGUAGE=de-de:Ü: Jugend: Begehung Hirschvogel (Jugend) - Feuerwehr 
 Denklingen
DTSTART:20260319T180000Z
DTEND:20260319T200000Z
DESCRIPTION:Übungsleitung: DH
PRIORITY:5
END:VEVENT
BEGIN:VEVENT
UID:04df6628-af3a-4f14-b298-23c91a391a57
DTSTAMP:20260425T110814Z
SUMMARY;LANGUAGE=de-de:Ü: Aktiv: THL Heben und Sichern (Aktiv) - Feuerwehr 
 Denklingen
DTSTART:20260323T183000Z
DTEND:20260323T203000Z
DESCRIPTION:Übungsleitung: JW\, Sse
PRIORITY:5
END:VEVENT
BEGIN:VEVENT
UID:de8498d2-be69-4443-bf42-a7142c971f52
DTSTAMP:20260425T110814Z
SUMMARY;LANGUAGE=de-de:Ü: Maschinisten: Maschinisten (Maschinisten + DI) - 
 Feuerwehr Denklingen
DTSTART:20260330T173000Z
DTEND:20260330T193000Z
DESCRIPTION:Übungsleitung: AL\, FF
PRIORITY:5
END:VEVENT
BEGIN:VEVENT
UID:1e62ca20-d495-4764-828a-47699eb8e579
DTSTAMP:20260425T110814Z
SUMMARY;LANGUAGE=de-de:Ü: Verein: JHV Denklingen in der Hex (Verein) - Feue
 rwehr Denklingen
DTSTART:20260402T180000Z
DTEND:20260402T200000Z
DESCRIPTION:Übungsleitung: Verein
PRIORITY:5
END:VEVENT
BEGIN:VEVENT
UID:aae84475-e8a3-472e-9848-0300bb0f3342
DTSTAMP:20260425T110814Z
SUMMARY;LANGUAGE=de-de:Ü: Vorstandschaft: Vorstandschaftssitzung - Feuerweh
 r Denklingen
DTSTART:20260407T173000Z
DTEND:20260407T193000Z
PRIORITY:5
END:VEVENT
BEGIN:VEVENT
UID:4b1a0162-5b95-45ee-9941-134c50b1132a
DTSTAMP:20260425T110814Z
SUMMARY;LANGUAGE=de-de:Ü: Jugend: Gruppe im Löscheinsatz (Jugend) - Feuerwe
 hr Denklingen
DTSTART:20260409T170000Z
DTEND:20260409T190000Z
DESCRIPTION:Übungsleitung: RH\, Mke
PRIORITY:5
END:VEVENT
BEGIN:VEVENT
UID:f2fd78cc-6121-469e-b84b-3ca1fb199be5
DTSTAMP:20260425T110814Z
SUMMARY;LANGUAGE=de-de:Ü: Verein: Fototermin - Feuerwehr Denklingen
DTSTART:20260411T113000Z
DTEND:20260411T133000Z
DESCRIPTION:Uniform
PRIORITY:5
END:VEVENT
BEGIN:VEVENT
UID:c990c483-68fc-43a6-9b32-17ed0a4e1670
DTSTAMP:20260425T110814Z
SUMMARY;LANGUAGE=de-de:Ü: Aktiv: Löschaufbau Innenangriff (Aktiv + DI) - Fe
 uerwehr Denklingen
DTSTART:20260413T173000Z
DTEND:20260413T193000Z
DESCRIPTION:Übungsleitung: DU\, CG
PRIORITY:5
END:VEVENT
BEGIN:VEVENT
UID:5a466ec5-49f5-42c6-adef-924175777a96
DTSTAMP:20260425T110814Z
SUMMARY;LANGUAGE=de-de:Ü: Motorsäger: Motorsäge (Motorsäger + DI) - Feuerwe
 hr Denklingen
DTSTART:20260420T170000Z
DTEND:20260420T190000Z
DESCRIPTION:Übungsleitung: Sse\, DF
PRIORITY:5
END:VEVENT
BEGIN:VEVENT
UID:8dd6636f-4482-4a79-89ae-ebe5a72b4f99
DTSTAMP:20260425T110814Z
SUMMARY;LANGUAGE=de-de:Ü: Aktiv: Praxis flexibles (Aktiv) - Feuerwehr Denkl
 ingen
DTSTART:20260420T173000Z
DTEND:20260420T193000Z
DESCRIPTION:Übungsleitung: TK\, CG
PRIORITY:5
END:VEVENT
BEGIN:VEVENT
UID:97ac7a9a-ac42-4654-83bf-928ea471eac9
DTSTAMP:20260425T110814Z
SUMMARY;LANGUAGE=de-de:Ü: Jugend: Gruppe im THL-Einsatz (Jugend) - Feuerweh
 r Denklingen
DTSTART:20260423T170000Z
DTEND:20260423T190000Z
DESCRIPTION:Übungsleitung: KB\, Mke
PRIORITY:5
END:VEVENT
BEGIN:VEVENT
UID:b853f56a-f71d-4f91-a44a-e0c0c904b3b9
DTSTAMP:20260425T110814Z
SUMMARY;LANGUAGE=de-de:Ü: Atemschutz: Begehung des Pflegeheims Fuchstal (At
 emschutz\, GF) - Feuerwehr Denklingen
DTSTART:20260427T164500Z
DTEND:20260427T184500Z
DESCRIPTION:Atemschutz\, Gruppenführer
PRIORITY:5
END:VEVENT
BEGIN:VEVENT
UID:7b98bb78-1837-4fef-bd67-039d1e3478d4
DTSTAMP:20260425T110814Z
SUMMARY;LANGUAGE=de-de:Ü: Aktiv: Löschaufbau Innenangriff (Aktiv + DI) - Fe
 uerwehr Denklingen
DTSTART:20260427T173000Z
DTEND:20260427T193000Z
DESCRIPTION:Übungsleitung: DU\, CG
PRIORITY:5
END:VEVENT
BEGIN:VEVENT
UID:ce728e1a-0423-4d4a-8a50-7794568f2aba
DTSTAMP:20260425T110814Z
SUMMARY;LANGUAGE=de-de:Ü: Info: Maifeuer in Dienhausen (Info) - Feuerwehr D
 enklingen
DTSTART:20260430T170000Z
DTEND:20260430T190000Z
DESCRIPTION:Übungsleitung: DI
PRIORITY:5
END:VEVENT
BEGIN:VEVENT
UID:74fe9fca-ff49-40e2-afb8-2c3b212f6108
DTSTAMP:20260425T110814Z
SUMMARY;LANGUAGE=de-de:Ü: Verein: Motorradsegnung (Verein) - Feuerwehr Denk
 lingen
DTSTART:20260503T080000Z
DTEND:20260503T100000Z
DESCRIPTION:Übungsleitung: Verein
PRIORITY:5
END:VEVENT
BEGIN:VEVENT
UID:9173369c-ffed-43e0-861f-2dcc53cbfb29
DTSTAMP:20260425T110814Z
SUMMARY;LANGUAGE=de-de:Ü: Vorstandschaft: Vorstandschaftssitzung - Feuerweh
 r Denklingen
DTSTART:20260504T173000Z
DTEND:20260504T193000Z
PRIORITY:5
END:VEVENT
BEGIN:VEVENT
UID:fcd6b7c1-8230-47e3-8fa2-7dfc80fc2dc8
DTSTAMP:20260425T110814Z
SUMMARY;LANGUAGE=de-de:Ü: Jugend: Ortskunde Funk (Jugend + DI) - Feuerwehr 
 Denklingen
DTSTART:20260507T170000Z
DTEND:20260507T190000Z
DESCRIPTION:Übungsleitung: KB\, MM\, BS
PRIORITY:5
END:VEVENT
BEGIN:VEVENT
UID:580664e6-6513-42d3-9728-f83023e4fa19
DTSTAMP:20260425T110814Z
SUMMARY;LANGUAGE=de-de:Ü: Aktiv: Retten aus Höhen und Tiefen (Aktiv) (Verle
 gt) - Feuerwehr Denklingen
DTSTART:20260511T173000Z
DTEND:20260511T193000Z
DESCRIPTION:Übungsleitung: MK\, CG\, JF
PRIORITY:5
END:VEVENT
BEGIN:VEVENT
UID:0032cb37-239b-45ee-9cd2-e7a1b4bcdf88
DTSTAMP:20260425T110814Z
SUMMARY;LANGUAGE=de-de:Ü: Info: Absperren 70. Lj Denklingen Oldtimerrundfah
 rt - Feuerwehr Denklingen
DTSTART:20260514T110000Z
DTEND:20260514T140000Z
DESCRIPTION:Übungsleitung: CG
PRIORITY:5
END:VEVENT
BEGIN:VEVENT
UID:605c5bba-4955-44ef-873e-3297a97d67ab
DTSTAMP:20260425T110814Z
SUMMARY;LANGUAGE=de-de:Ü: Info: Absperren 70. Lj Denklingen Festabend - Feu
 erwehr Denklingen
DTSTART:20260515T160000Z
DTEND:20260515T200000Z
DESCRIPTION:Übungsleitung:
PRIORITY:5
END:VEVENT
BEGIN:VEVENT
UID:09c215e6-5fa2-4bf1-9004-da734743c0cc
DTSTAMP:20260425T110814Z
SUMMARY;LANGUAGE=de-de:Ü: Verein: Teilnehmer 70. Lj Denklingen Festabend Ga
 udi-Wettkampf - Feuerwehr Denklingen
DTSTART:20260515T170000Z
DTEND:20260515T200000Z
DESCRIPTION:FW-T-Shirt
PRIORITY:5
END:VEVENT
BEGIN:VEVENT
UID:b8bac627-9ecd-40d6-a971-33103da1c8fa
DTSTAMP:20260425T110814Z
SUMMARY;LANGUAGE=de-de:Ü: Info: Absperren 70. Lj Denklingen Partyabend - Fe
 uerwehr Denklingen
DTSTART:20260516T163000Z
DTEND:20260516T220000Z
DESCRIPTION:Übungsleitung:
PRIORITY:5
END:VEVENT
BEGIN:VEVENT
UID:45e641e2-8ca4-462b-a9f3-0e9d888616e7
DTSTAMP:20260425T110814Z
SUMMARY;LANGUAGE=de-de:Ü: Info: Absperren 70. Lj Denklingen Kirchenzug - Fe
 uerwehr Denklingen
DTSTART:20260517T064500Z
DTEND:20260517T090000Z
DESCRIPTION:Übungsleitung: CG
PRIORITY:5
END:VEVENT
BEGIN:VEVENT
UID:dd36022d-c6ec-4522-bf0d-35371062cb24
DTSTAMP:20260425T110814Z
SUMMARY;LANGUAGE=de-de:Ü: Verein: Teilnehmer 70. Lj Denklingen Kirche - Feu
 erwehr Denklingen
DTSTART:20260517T073000Z
DTEND:20260517T090000Z
DESCRIPTION:Uniform
PRIORITY:5
END:VEVENT
BEGIN:VEVENT
UID:7940f8ec-af55-4e1b-a9ff-5ce105977817
DTSTAMP:20260425T110814Z
SUMMARY;LANGUAGE=de-de:Ü: Jugend: Absturzsicherung (Jugend) - Feuerwehr Den
 klingen
DTSTART:20260521T170000Z
DTEND:20260521T190000Z
DESCRIPTION:Übungsleitung: RH\, MK\, TK
PRIORITY:5
END:VEVENT
BEGIN:VEVENT
UID:0ab16869-cd79-4c91-8a16-3f2e1f74af47
DTSTAMP:20260425T110814Z
SUMMARY;LANGUAGE=de-de:Ü: AbStuSi: Abstusi in Pflugdorf-Stadl (AbStuSi) Ver
 legt - Feuerwehr Denklingen
DTSTART:20260601T170000Z
DTEND:20260601T190000Z
DESCRIPTION:Übungsleitung: MK
PRIORITY:5
END:VEVENT
BEGIN:VEVENT
UID:50819e6f-bea3-4bf0-be0c-07641f84b114
DTSTAMP:20260425T110814Z
SUMMARY;LANGUAGE=de-de:Ü: Atemschutz: Atemschutz (Atemschutz) - Feuerwehr D
 enklingen
DTSTART:20260608T173000Z
DTEND:20260608T193000Z
DESCRIPTION:Übungsleitung: MS\, FF
PRIORITY:5
END:VEVENT
BEGIN:VEVENT
UID:15780458-b807-4760-b932-e34170e4deed
DTSTAMP:20260425T110814Z
SUMMARY;LANGUAGE=de-de:Ü: Jugend: Heben und Sichern (Jugend) - Feuerwehr De
 nklingen
DTSTART:20260611T170000Z
DTEND:20260611T190000Z
DESCRIPTION:Übungsleitung: KB\, JW\, DS
PRIORITY:5
END:VEVENT
BEGIN:VEVENT
UID:3d3557b3-1cd2-43fe-83f1-1477ac2fdb77
DTSTAMP:20260425T110814Z
SUMMARY;LANGUAGE=de-de:Ü: Aktiv: Retten aus Höhen und Tiefen (Aktiv) - Feue
 rwehr Denklingen
DTSTART:20260615T173000Z
DTEND:20260615T193000Z
DESCRIPTION:Übungsleitung: MK\, CG\, JF
PRIORITY:5
END:VEVENT
BEGIN:VEVENT
UID:b324c454-cb1c-4e25-8637-aabbabc30bcb
DTSTAMP:20260425T110814Z
SUMMARY;LANGUAGE=de-de:Ü: Info: 150 Jahre FF Epfach (Info) - Feuerwehr Denk
 lingen
DTSTART:20260619T160000Z
DTEND:20260619T180000Z
DESCRIPTION:Übungsleitung:
PRIORITY:5
END:VEVENT
BEGIN:VEVENT
UID:9946ac28-4614-43ac-b607-22f94f8aff1d
DTSTAMP:20260425T110814Z
SUMMARY;LANGUAGE=de-de:Ü: Info: 150 Jahre FF Epfach (Info) - Feuerwehr Denk
 lingen
DTSTART:20260620T080000Z
DTEND:20260620T100000Z
DESCRIPTION:Übungsleitung:
PRIORITY:5
END:VEVENT
BEGIN:VEVENT
UID:01baf2ad-8810-4b8d-b5b4-9a538281ee88
DTSTAMP:20260425T110814Z
SUMMARY;LANGUAGE=de-de:Ü: Aktiv: Flexibles Thema (Aktiv) - Feuerwehr Denkli
 ngen
DTSTART:20260622T173000Z
DTEND:20260622T193000Z
DESCRIPTION:Übungsleitung: Ssi\, NH\, WB
PRIORITY:5
END:VEVENT
BEGIN:VEVENT
UID:3168f17a-f86b-4a5b-8987-f6a684ee335a
DTSTAMP:20260425T110814Z
SUMMARY;LANGUAGE=de-de:Ü: Jugend: Flexibles Thema (Jugend) - Feuerwehr Denk
 lingen
DTSTART:20260625T170000Z
DTEND:20260625T190000Z
DESCRIPTION:Übungsleitung: RH\, JF
PRIORITY:5
END:VEVENT
BEGIN:VEVENT
UID:bf471e69-1603-4966-b36b-9e5e1d31a9ba
DTSTAMP:20260425T110814Z
SUMMARY;LANGUAGE=de-de:Ü: Maschinisten: Maschinsten Wasserförderung (Maschi
 nisten + DI\, EP) - Feuerwehr Denklingen
DTSTART:20260629T173000Z
DTEND:20260629T193000Z
DESCRIPTION:Übungsleitung: AL
PRIORITY:5
END:VEVENT
BEGIN:VEVENT
UID:050723ff-2aeb-476d-aac8-a337dcd9fdcb
DTSTAMP:20260425T110814Z
SUMMARY;LANGUAGE=de-de:Ü: Jugend: Vorbereitung Jugendleistungsprüfung (Juge
 nd) - Feuerwehr Denklingen
DTSTART:20260702T170000Z
DTEND:20260702T190000Z
DESCRIPTION:Übungsleitung: KB\, RH
PRIORITY:5
END:VEVENT
BEGIN:VEVENT
UID:b4570b01-0331-4496-b72d-87d6b1a63ca0
DTSTAMP:20260425T110814Z
SUMMARY;LANGUAGE=de-de:Ü: Aktiv: Verkehrsabsicherung Bundesstraße (Aktiv + 
 DI) - Feuerwehr Denklingen
DTSTART:20260706T173000Z
DTEND:20260706T193000Z
DESCRIPTION:Übungsleitung: DH\, CG
PRIORITY:5
END:VEVENT
BEGIN:VEVENT
UID:af02edaf-c2cb-493a-b9e0-bece924e094a
DTSTAMP:20260425T110814Z
SUMMARY;LANGUAGE=de-de:Ü: Jugend: Vorbereitung Jugendleistungsprüfung (Juge
 nd) - Feuerwehr Denklingen
DTSTART:20260709T170000Z
DTEND:20260709T190000Z
DESCRIPTION:Übungsleitung: KB\, RH
PRIORITY:5
END:VEVENT
BEGIN:VEVENT
UID:d5c8ff41-9fde-42a5-b1ae-830cbb8aaadf
DTSTAMP:20260425T110814Z
SUMMARY;LANGUAGE=de-de:Ü: Jugend: Gemeinschaftsübung in Denklingen (Jugend 
 + DI\, EP) - Feuerwehr Denklingen
DTSTART:20260713T173000Z
DTEND:20260713T193000Z
DESCRIPTION:Übungsleitung: AL\, CG
PRIORITY:5
END:VEVENT
BEGIN:VEVENT
UID:fbec18af-8f9e-4298-879c-aa92445af262
DTSTAMP:20260425T110814Z
SUMMARY;LANGUAGE=de-de:Ü: Aktiv: Gemeinschaftsübung in Denklingen (Aktiv + 
 DI\, EP) - Feuerwehr Denklingen
DTSTART:20260713T173000Z
DTEND:20260713T193000Z
DESCRIPTION:Übungsleitung: AL\, CG
PRIORITY:5
END:VEVENT
BEGIN:VEVENT
UID:2b82a3c1-5dd3-4612-aec1-e9a95b3d0b08
DTSTAMP:20260425T110814Z
SUMMARY;LANGUAGE=de-de:Ü: Jugend: Vorbereitung Jugendleistungsprüfung (Juge
 nd) - Feuerwehr Denklingen
DTSTART:20260716T170000Z
DTEND:20260716T190000Z
DESCRIPTION:Übungsleitung: KB\, RH
PRIORITY:5
END:VEVENT
BEGIN:VEVENT
UID:d6b55545-b911-4806-bcb9-d2ddf7ef845d
DTSTAMP:20260425T110814Z
SUMMARY;LANGUAGE=de-de:Ü: Jugend: Abnahme Jugendprüfung\, Abschied Benno (J
 ugend) - Feuerwehr Denklingen
DTSTART:20260718T080000Z
DTEND:20260718T100000Z
DESCRIPTION:Übungsleitung: KB\, RH
PRIORITY:5
END:VEVENT
BEGIN:VEVENT
UID:f7fed414-f0ae-40fa-b542-af3c590adc5c
DTSTAMP:20260425T110814Z
SUMMARY;LANGUAGE=de-de:Ü: Gruppenführer: GF-Übung (Gruppenführer) - Feuerwe
 hr Denklingen
DTSTART:20260720T173000Z
DTEND:20260720T193000Z
DESCRIPTION:Übungsleitung: CG\, AL
PRIORITY:5
END:VEVENT
BEGIN:VEVENT
UID:73e3e027-ee05-4b82-9ee5-a681671cf542
DTSTAMP:20260425T110814Z
SUMMARY;LANGUAGE=de-de:Ü: Verein: Radfahren (Verein) - Feuerwehr Denklingen
DTSTART:20260723T160000Z
DTEND:20260723T180000Z
DESCRIPTION:Übungsleitung: CG\, NL
PRIORITY:5
END:VEVENT
BEGIN:VEVENT
UID:a4c9bd3b-b7fd-4437-8c7a-17d113b24780
DTSTAMP:20260425T110814Z
SUMMARY;LANGUAGE=de-de:Ü: Aktiv: Kleingeräte (Aktiv) - Feuerwehr Denklingen
DTSTART:20260727T173000Z
DTEND:20260727T193000Z
DESCRIPTION:Übungsleitung: Ssi\, NH\, WB
PRIORITY:5
END:VEVENT
BEGIN:VEVENT
UID:28662a55-1feb-471d-97c1-ea09d91ac660
DTSTAMP:20260425T110814Z
SUMMARY;LANGUAGE=de-de:Ü: Verein: Ausweichtermin Radfahren (Verein) - Feuer
 wehr Denklingen
DTSTART:20260730T160000Z
DTEND:20260730T180000Z
DESCRIPTION:Übungsleitung: CG\, NL
PRIORITY:5
END:VEVENT
BEGIN:VEVENT
UID:65d33bb9-1125-48f7-8f55-836376718a5f
DTSTAMP:20260425T110814Z
SUMMARY;LANGUAGE=de-de:Ü: Verein: Arbeitseinsatz (Verein) - Feuerwehr Denkl
 ingen
DTSTART:20260803T170000Z
DTEND:20260803T190000Z
DESCRIPTION:Übungsleitung: Verein
PRIORITY:5
END:VEVENT
BEGIN:VEVENT
UID:7f126388-48f7-4496-b85f-4623c2505567
DTSTAMP:20260425T110814Z
SUMMARY;LANGUAGE=de-de:Ü: Jugend: Ferienprogramm (Jugend) - Feuerwehr Denkl
 ingen
DTSTART:20260806T120000Z
DTEND:20260806T140000Z
DESCRIPTION:Übungsleitung: KB
PRIORITY:5
END:VEVENT
BEGIN:VEVENT
UID:5cfd4a3f-17d9-4e46-b95e-c78be9d9da0b
DTSTAMP:20260425T110814Z
SUMMARY;LANGUAGE=de-de:Ü: Aktiv: Objektübung Tiefgarage (Aktiv) - Feuerwehr 
 Denklingen
DTSTART:20260810T173000Z
DTEND:20260810T193000Z
DESCRIPTION:Übungsleitung: NH\, MF
PRIORITY:5
END:VEVENT
BEGIN:VEVENT
UID:64fccd7a-5142-453b-92bb-8d55fb5a0dce
DTSTAMP:20260425T110814Z
SUMMARY;LANGUAGE=de-de:Ü: Jugend: Lechübung (Jugend) - Feuerwehr Denklingen
DTSTART:20260813T170000Z
DTEND:20260813T190000Z
DESCRIPTION:Übungsleitung: RH\, AL
PRIORITY:5
END:VEVENT
BEGIN:VEVENT
UID:92bafb3a-6c7c-4651-807c-e90082976588
DTSTAMP:20260425T110814Z
SUMMARY;LANGUAGE=de-de:Ü: Verein: Grillfest (Verein) - Feuerwehr Denklingen
DTSTART:20260814T160000Z
DTEND:20260814T180000Z
DESCRIPTION:Übungsleitung: Verein
PRIORITY:5
END:VEVENT
BEGIN:VEVENT
UID:e389af7a-4ccf-40a2-9193-8ae18e8e160e
DTSTAMP:20260425T110814Z
SUMMARY;LANGUAGE=de-de:Ü: Jugend: Waldunfall Grundlagen (Jugend + DI) - Feu
 erwehr Denklingen
DTSTART:20260831T173000Z
DTEND:20260831T193000Z
DESCRIPTION:Übungsleitung: CG\, JW\, ML
PRIORITY:5
END:VEVENT
BEGIN:VEVENT
UID:0b19ac8a-5994-43f2-9524-68edf82a7f24
DTSTAMP:20260425T110814Z
SUMMARY;LANGUAGE=de-de:Ü: Aktiv: Waldunfall Grundlagen (Aktiv + DI) - Feuer
 wehr Denklingen
DTSTART:20260831T173000Z
DTEND:20260831T193000Z
DESCRIPTION:Übungsleitung: CG\, JW\, ML
PRIORITY:5
END:VEVENT
BEGIN:VEVENT
UID:5a99475e-7125-40a4-93be-4bc84b28f1ad
DTSTAMP:20260425T110814Z
SUMMARY;LANGUAGE=de-de:Ü: Aktiv: Grundlagen ABC-Einsatz (Aktiv) - Feuerwehr 
 Denklingen
DTSTART:20260907T173000Z
DTEND:20260907T193000Z
DESCRIPTION:Übungsleitung: CM\, AL
PRIORITY:5
END:VEVENT
BEGIN:VEVENT
UID:8011b3b8-4f35-42c1-919a-c28cf2427477
DTSTAMP:20260425T110814Z
SUMMARY;LANGUAGE=de-de:Ü: Jugend: Grundlagen ABC-Einsatz (Jugend) - Feuerwe
 hr Denklingen
DTSTART:20260910T170000Z
DTEND:20260910T190000Z
DESCRIPTION:Übungsleitung: CM\, KB
PRIORITY:5
END:VEVENT
BEGIN:VEVENT
UID:d3dcabfb-a3d1-49ee-b361-e744eec3b683
DTSTAMP:20260425T110814Z
SUMMARY;LANGUAGE=de-de:Ü: Aktiv: Vorbereitung Schauübung (Aktiv) - Feuerweh
 r Denklingen
DTSTART:20260910T173000Z
DTEND:20260910T193000Z
DESCRIPTION:Übungsleitung: CG\, AL
PRIORITY:5
END:VEVENT
BEGIN:VEVENT
UID:ad18bf24-ed56-4f51-9da4-05b30e449b19
DTSTAMP:20260425T110814Z
SUMMARY;LANGUAGE=de-de:Ü: Aktiv: Waldunfall Einsatzübung (Aktiv + DI) - Feu
 erwehr Denklingen
DTSTART:20260914T173000Z
DTEND:20260914T193000Z
DESCRIPTION:Übungsleitung: CG\, JW\, ML
PRIORITY:5
END:VEVENT
BEGIN:VEVENT
UID:69f3ed8b-9414-4c55-9765-dd52e061b5f7
DTSTAMP:20260425T110814Z
SUMMARY;LANGUAGE=de-de:Ü: Aktiv: Vorbereitung Schauübung (Aktiv) - Feuerweh
 r Denklingen
DTSTART:20260917T170000Z
DTEND:20260917T190000Z
DESCRIPTION:Übungsleitung: CG\, AL
PRIORITY:5
END:VEVENT
BEGIN:VEVENT
UID:d4a18519-b8b2-4762-a179-82f3c3569944
DTSTAMP:20260425T110814Z
SUMMARY;LANGUAGE=de-de:Ü: Jugend: Industriebübung  (Jugend + DI) - Feuerweh
 r Denklingen
DTSTART:20260921T173000Z
DTEND:20260921T193000Z
DESCRIPTION:Übungsleitung: DH\, AL
PRIORITY:5
END:VEVENT
BEGIN:VEVENT
UID:4d2eca5b-0d61-4aa5-8b7c-7060ee3054d5
DTSTAMP:20260425T110814Z
SUMMARY;LANGUAGE=de-de:Ü: Aktiv: Industriebübung  (Aktiv + DI) - Feuerwehr 
 Denklingen
DTSTART:20260921T173000Z
DTEND:20260921T193000Z
DESCRIPTION:Übungsleitung: DH\, AL
PRIORITY:5
END:VEVENT
BEGIN:VEVENT
UID:9c5b6c9f-93f3-4129-80fc-85b3a689e12d
DTSTAMP:20260425T110814Z
SUMMARY;LANGUAGE=de-de:Ü: Jugend: Gruppenabend (Jugend) - Feuerwehr Denklin
 gen
DTSTART:20260924T170000Z
DTEND:20260924T190000Z
DESCRIPTION:Übungsleitung: Jugend
PRIORITY:5
END:VEVENT
BEGIN:VEVENT
UID:153b4118-47c8-4ee4-80f1-7c36b147e3ea
DTSTAMP:20260425T110814Z
SUMMARY;LANGUAGE=de-de:Ü: Aktiv: Vorbereitung Schauübung (Aktiv) - Feuerweh
 r Denklingen
DTSTART:20260924T173000Z
DTEND:20260924T193000Z
DESCRIPTION:Übungsleitung: CG\, AL
PRIORITY:5
END:VEVENT
BEGIN:VEVENT
UID:cbd73499-c4c6-4a16-aa4c-0e430db72e2f
DTSTAMP:20260425T110814Z
SUMMARY;LANGUAGE=de-de:Ü: Jugend: Arbeitseinsatz (Jugend) - Feuerwehr Denkl
 ingen
DTSTART:20260928T170000Z
DTEND:20260928T190000Z
DESCRIPTION:Übungsleitung: Verein
PRIORITY:5
END:VEVENT
BEGIN:VEVENT
UID:9caec9e2-6f62-4e9c-854f-27144ce06071
DTSTAMP:20260425T110814Z
SUMMARY;LANGUAGE=de-de:Ü: Aktiv: Arbeitseinsatz (Aktiv) - Feuerwehr Denklin
 gen
DTSTART:20260928T170000Z
DTEND:20260928T190000Z
DESCRIPTION:Übungsleitung: Verein
PRIORITY:5
END:VEVENT
BEGIN:VEVENT
UID:283dee8c-0036-418a-9579-31fc05401d53
DTSTAMP:20260425T110814Z
SUMMARY;LANGUAGE=de-de:Ü: Verein: Zeltaufbau (Verein) - Feuerwehr Denklinge
 n
DTSTART:20260929T160000Z
DTEND:20260929T180000Z
DESCRIPTION:Übungsleitung: Verein
PRIORITY:5
END:VEVENT
BEGIN:VEVENT
UID:ca101972-6b4e-498b-8691-4fde0aa55877
DTSTAMP:20260425T110814Z
SUMMARY;LANGUAGE=de-de:Ü: Verein: 150 Jahre FF Denklingen Partyabend (Verei
 n) - Feuerwehr Denklingen
DTSTART:20261002T160000Z
DTEND:20261002T180000Z
DESCRIPTION:Übungsleitung: Verein
PRIORITY:5
END:VEVENT
BEGIN:VEVENT
UID:f6e7b979-a6c5-4162-9616-48552ef365f5
DTSTAMP:20260425T110814Z
SUMMARY;LANGUAGE=de-de:Ü: Verein: 150 Jahre FF Denklingen Stimmungsabend (V
 erein) - Feuerwehr Denklingen
DTSTART:20261003T160000Z
DTEND:20261003T180000Z
DESCRIPTION:Übungsleitung: Verein
PRIORITY:5
END:VEVENT
BEGIN:VEVENT
UID:1ebbed96-6b32-43a4-a8e4-5e9df53648ed
DTSTAMP:20260425T110814Z
SUMMARY;LANGUAGE=de-de:Ü: Verein: 150 Jahre FF Denklingen Festsonntag (Vere
 in) - Feuerwehr Denklingen
DTSTART:20261004T060000Z
DTEND:20261004T080000Z
DESCRIPTION:Übungsleitung: Verein
PRIORITY:5
END:VEVENT
BEGIN:VEVENT
UID:9fd978ad-97a1-4663-8c65-f4b124d22ea7
DTSTAMP:20260425T110814Z
SUMMARY;LANGUAGE=de-de:Ü: Jugend: Arbeitseinsatz (Jugend) - Feuerwehr Denkl
 ingen
DTSTART:20261005T170000Z
DTEND:20261005T190000Z
DESCRIPTION:Übungsleitung: Verein
PRIORITY:5
END:VEVENT
BEGIN:VEVENT
UID:b1595ab7-0b49-4977-8bbe-5241306a6cd3
DTSTAMP:20260425T110814Z
SUMMARY;LANGUAGE=de-de:Ü: Aktiv: Arbeitseinsatz (Aktiv) - Feuerwehr Denklin
 gen
DTSTART:20261005T170000Z
DTEND:20261005T190000Z
DESCRIPTION:Übungsleitung: Verein
PRIORITY:5
END:VEVENT
BEGIN:VEVENT
UID:fafead6e-9f53-4145-8210-f63fe618c682
DTSTAMP:20260425T110814Z
SUMMARY;LANGUAGE=de-de:Ü: Verein: Zeltabbau (Verein) - Feuerwehr Denklingen
DTSTART:20261006T160000Z
DTEND:20261006T180000Z
DESCRIPTION:Übungsleitung: Verein
PRIORITY:5
END:VEVENT
BEGIN:VEVENT
UID:0979c71e-fa08-45fd-b325-4a1f60bddd0d
DTSTAMP:20260425T110814Z
SUMMARY;LANGUAGE=de-de:Ü: AbStuSi: Abstusi mit Pflugdorf-Stadl (AbStuSi) - 
 Feuerwehr Denklingen
DTSTART:20261012T170000Z
DTEND:20261012T190000Z
DESCRIPTION:Übungsleitung: MK
PRIORITY:5
END:VEVENT
BEGIN:VEVENT
UID:72f80ff1-ea6c-48d8-8474-05f4bec715b3
DTSTAMP:20260425T110814Z
SUMMARY;LANGUAGE=de-de:Ü: Jugend: Atemschutz Grundlagen (Jugend) - Feuerweh
 r Denklingen
DTSTART:20261015T170000Z
DTEND:20261015T190000Z
DESCRIPTION:Übungsleitung: RH\, SN\, MoS
PRIORITY:5
END:VEVENT
BEGIN:VEVENT
UID:07aa7478-0660-4e45-969f-cbd598b5ee49
DTSTAMP:20260425T110814Z
SUMMARY;LANGUAGE=de-de:Ü: Aktiv: Verkehrsunfall THL Grundlagen (Aktiv) - Fe
 uerwehr Denklingen
DTSTART:20261019T173000Z
DTEND:20261019T193000Z
DESCRIPTION:Übungsleitung: AL\, NH
PRIORITY:5
END:VEVENT
BEGIN:VEVENT
UID:ca82bb09-c4dd-4c10-89d5-e73d203fc55f
DTSTAMP:20260425T110814Z
SUMMARY;LANGUAGE=de-de:Ü: Jugend: Berufsfeuerwehr Tag 25h (Jugend) - Feuerw
 ehr Denklingen
DTSTART:20261024T060000Z
DTEND:20261024T080000Z
DESCRIPTION:Übungsleitung: KB\, RH
PRIORITY:5
END:VEVENT
BEGIN:VEVENT
UID:20f6d886-18b3-40e4-bb23-823c656b7ede
DTSTAMP:20260425T110814Z
SUMMARY;LANGUAGE=de-de:Ü: Atemschutz: Atemschutz (Atemschutz) - Feuerwehr D
 enklingen
DTSTART:20261026T183000Z
DTEND:20261026T203000Z
DESCRIPTION:Übungsleitung: MS\, SN\, MoS
PRIORITY:5
END:VEVENT
BEGIN:VEVENT
UID:d6addb31-fa83-4f0d-8755-e88fa0bdfa99
DTSTAMP:20260425T110814Z
SUMMARY;LANGUAGE=de-de:Ü: Aktiv: Verkehrsunfall THL Einsatzübung (Aktiv + D
 I) - Feuerwehr Denklingen
DTSTART:20261102T183000Z
DTEND:20261102T203000Z
DESCRIPTION:Übungsleitung: AL\, NH
PRIORITY:5
END:VEVENT
BEGIN:VEVENT
UID:262adb78-b8de-4ea5-94fc-4242fcb55bdd
DTSTAMP:20260425T110814Z
SUMMARY;LANGUAGE=de-de:Ü: Jugend: Gruppenabend (Jugend) - Feuerwehr Denklin
 gen
DTSTART:20261105T180000Z
DTEND:20261105T200000Z
DESCRIPTION:Übungsleitung: KB\, RH\, BS
PRIORITY:5
END:VEVENT
BEGIN:VEVENT
UID:f5139047-92d9-4df7-a097-45d428f082bb
DTSTAMP:20260425T110814Z
SUMMARY;LANGUAGE=de-de:Ü: Gruppenführer: GF-Aufzug (Gruppenführer) - Feuerw
 ehr Denklingen
DTSTART:20261109T183000Z
DTEND:20261109T203000Z
DESCRIPTION:Übungsleitung: CG\, MF
PRIORITY:5
END:VEVENT
BEGIN:VEVENT
UID:4d00a078-ad67-4c7b-bfe4-4fab2102e758
DTSTAMP:20260425T110814Z
SUMMARY;LANGUAGE=de-de:Ü: Jugend: Vorbereitung Wissenstest (Jugend) - Feuer
 wehr Denklingen
DTSTART:20261112T180000Z
DTEND:20261112T200000Z
DESCRIPTION:Übungsleitung: KB\, BS
PRIORITY:5
END:VEVENT
BEGIN:VEVENT
UID:32f003eb-2140-4087-a5e2-29a92e307922
DTSTAMP:20260425T110814Z
SUMMARY;LANGUAGE=de-de:Ü: Aktiv: Objektkunde (Aktiv) - Feuerwehr Denklingen
DTSTART:20261116T183000Z
DTEND:20261116T203000Z
DESCRIPTION:Übungsleitung: CG\, JF
PRIORITY:5
END:VEVENT
BEGIN:VEVENT
UID:e495f432-979c-491a-9782-3094d0b9fdc5
DTSTAMP:20260425T110814Z
SUMMARY;LANGUAGE=de-de:Ü: Jugend: Abnahme Wissenstest (Jugend) - Feuerwehr 
 Denklingen
DTSTART:20261119T180000Z
DTEND:20261119T200000Z
DESCRIPTION:Übungsleitung: KB
PRIORITY:5
END:VEVENT
BEGIN:VEVENT
UID:8359f4f0-b3df-4759-857b-11d0b412eb78
DTSTAMP:20260425T110814Z
SUMMARY;LANGUAGE=de-de:Ü: Gruppenführer: Terminesitzung (Gruppenführer) - F
 euerwehr Denklingen
DTSTART:20261123T183000Z
DTEND:20261123T203000Z
DESCRIPTION:Übungsleitung: CG
PRIORITY:5
END:VEVENT
BEGIN:VEVENT
UID:36b1508c-c72f-4a46-8388-2f4b98775f95
DTSTAMP:20260425T110814Z
SUMMARY;LANGUAGE=de-de:Ü: Aktiv: Objektkunde (Aktiv) - Feuerwehr Denklingen
DTSTART:20261130T183000Z
DTEND:20261130T203000Z
DESCRIPTION:Übungsleitung: CG\, JF
PRIORITY:5
END:VEVENT
BEGIN:VEVENT
UID:dc3f2e14-6eea-4fc4-b221-3d0343a9fd83
DTSTAMP:20260425T110814Z
SUMMARY;LANGUAGE=de-de:Ü: Jugend: Organisation der Feuerwehr (Jugend) - Feu
 erwehr Denklingen
DTSTART:20261203T180000Z
DTEND:20261203T200000Z
DESCRIPTION:Übungsleitung: CG\, KB
PRIORITY:5
END:VEVENT
BEGIN:VEVENT
UID:a3ce9bf1-8e32-4b51-87d4-82bc25968b3b
DTSTAMP:20260425T110814Z
SUMMARY;LANGUAGE=de-de:Ü: Maschinisten: Maschinisten  (Maschinisten + DI) - 
 Feuerwehr Denklingen
DTSTART:20261207T183000Z
DTEND:20261207T203000Z
DESCRIPTION:Übungsleitung: AL\, FF
PRIORITY:5
END:VEVENT
BEGIN:VEVENT
UID:a1e135be-e5c5-417c-bfc7-c3b4689af6f2
DTSTAMP:20260425T110814Z
SUMMARY;LANGUAGE=de-de:Ü: Jugend: Abschlussübung (Jugend) - Feuerwehr Denkl
 ingen
DTSTART:20261214T183000Z
DTEND:20261214T203000Z
DESCRIPTION:Übungsleitung: CG\, AL
PRIORITY:5
END:VEVENT
BEGIN:VEVENT
UID:c4fb4dd5-ab0d-4e8f-9bfc-79716c21f7dd
DTSTAMP:20260425T110814Z
SUMMARY;LANGUAGE=de-de:Ü: Aktiv: Abschlussübung (Aktiv) - Feuerwehr Denklin
 gen
DTSTART:20261214T183000Z
DTEND:20261214T203000Z
DESCRIPTION:Übungsleitung: CG\, AL
PRIORITY:5
END:VEVENT
BEGIN:VEVENT
UID:380cc65b-5e2a-42ec-9487-f5d8ba304573
DTSTAMP:20260425T110814Z
SUMMARY;LANGUAGE=de-de:Ü: Jugend: Spieleabend (Jugend) - Feuerwehr Denkling
 en
DTSTART:20261217T180000Z
DTEND:20261217T200000Z
DESCRIPTION:Übungsleitung: Jugend
PRIORITY:5
END:VEVENT
END:VCALENDAR
